BEGIN:VCALENDAR
VERSION:2.0
PRODID:-//St. George Leagues Club - ECPv6.11.0.1//NONSGML v1.0//EN
CALSCALE:GREGORIAN
METHOD:PUBLISH
X-WR-CALNAME:St. George Leagues Club
X-ORIGINAL-URL:https://stgeorgeleagues.com.au
X-WR-CALDESC:Events for St. George Leagues Club
REFRESH-INTERVAL;VALUE=DURATION:PT1H
X-Robots-Tag:noindex
X-PUBLISHED-TTL:PT1H
BEGIN:VTIMEZONE
TZID:Australia/Sydney
BEGIN:STANDARD
TZOFFSETFROM:+1100
TZOFFSETTO:+1000
TZNAME:AEST
DTSTART:20260404T160000
END:STANDARD
BEGIN:DAYLIGHT
TZOFFSETFROM:+1000
TZOFFSETTO:+1100
TZNAME:AEDT
DTSTART:20261003T160000
END:DAYLIGHT
END:VTIMEZONE
BEGIN:VEVENT
DTSTART;TZID=Australia/Sydney:20260725T190000
DTEND;TZID=Australia/Sydney:20260725T220000
DTSTAMP:20260423T184725
CREATED:20260417T064427Z
LAST-MODIFIED:20260417T094120Z
UID:59781-1785006000-1785016800@stgeorgeleagues.com.au
SUMMARY:Unwrapped - A Christmas in July Show
DESCRIPTION:[vc_row][vc_column][vc_column_text css=””]Unwrapped is bringing the magic of Christmas in July to life. \nGet ready for a festive night of indulgent dining\, dazzling entertainment and merry moments\, all wrapped up in one unforgettable night. \nStep into a world of winter wonder\, sparkling décor and merry celebration\, where delicious dining meets a dazzling live show designed to bring the festive spirit and keep the party going all night. \nPlease Note: This is an 18+ only event.[/vc_column_text][vc_separator][/vc_column][/vc_row][vc_row][vc_column][vc_column_text css=””] \nDINNER AND SHOW\n\nThree-course dinner\, to kick off the night in style. \nUnwrapped live show\, with dazzling festive entertainment. \nPrizes for Best dressed Male and Female \nPRICE\n$49.90 Members Early Bird (limited spots) \n$55 Members\, $65 Visitors. \n\n[/vc_column_text][/vc_column][/vc_row][vc_row][vc_column][vc_column_text css=””] \nTIMING\nSaturday 25 July 7pm – 10pm.[/vc_column_text][vc_column_text css=””][/vc_column_text]BOOK NOW[/vc_column][/vc_row][vc_row el_id=”conditions”][vc_column][vc_separator][vc_column_text css=””]Conditions apply. Limited Early bird tickets available. Member pricing available to current financial St. George Leagues Club members only. To learn more about membership\, visit ST.GEORGE Rewards and join or renew today from only $3.[/vc_column_text][/vc_column][/vc_row]
URL:https://stgeorgeleagues.com.au/whats-on/unwrapped/
CATEGORIES:Eat & Drink,Entertainment
ATTACH;FMTTYPE=image/jpeg:https://stgeorgeleagues.com.au/wp-content/uploads/2026/04/Unwrapped-WEB-1.jpg
END:VEVENT
END:VCALENDAR