BEGIN:VCALENDAR
VERSION:2.0
PRODID:-//St. George Leagues Club - ECPv6.11.0.1//NONSGML v1.0//EN
CALSCALE:GREGORIAN
METHOD:PUBLISH
X-WR-CALNAME:St. George Leagues Club
X-ORIGINAL-URL:https://stgeorgeleagues.com.au
X-WR-CALDESC:Events for St. George Leagues Club
REFRESH-INTERVAL;VALUE=DURATION:PT1H
X-Robots-Tag:noindex
X-PUBLISHED-TTL:PT1H
BEGIN:VTIMEZONE
TZID:Australia/Sydney
BEGIN:STANDARD
TZOFFSETFROM:+1100
TZOFFSETTO:+1000
TZNAME:AEST
DTSTART:20230401T160000
END:STANDARD
BEGIN:DAYLIGHT
TZOFFSETFROM:+1000
TZOFFSETTO:+1100
TZNAME:AEDT
DTSTART:20230930T160000
END:DAYLIGHT
END:VTIMEZONE
BEGIN:VEVENT
DTSTART;TZID=Australia/Sydney:20231101T113000
DTEND;TZID=Australia/Sydney:20231101T210000
DTSTAMP:20260424T223916
CREATED:20230825T000041Z
LAST-MODIFIED:20231101T022909Z
UID:22738-1698838200-1698872400@stgeorgeleagues.com.au
SUMMARY:$19.90 SURF & TURF
DESCRIPTION:[vc_row disable_element=”yes”][vc_column][vc_column_text]Bring in Spring with our Surf & Turf special \nCelebrate the start of Spring with our CRAZY food special exclusive for members. For only $19.90 indulge in a delicious Surf & Turf. Bargain! At that price\, you’ll want to dine out every day. \nGather your family and friends and ride the wave of flavour with a 200g Angus rump steak with prawns\, topped with béarnaise sauce\, along with crispy hot chips and house garden salad. \nWhy is Surf & Turf so good? It’s the perfect combination for meat and seafood lovers. You get the best of both worlds in one meal.[/vc_column_text][/vc_column][/vc_row][vc_row][vc_column][vc_column_text]Due to popular demand $19.90 Surf & Turf is back. \nWe’re combining succulent meat with the flavours of the ocean for our next CRAZY food special exclusive for members. \nFor only $19.90\, indulge in a delicious 200g Angus rump steak and grilled tiger prawns topped with your sauce of choice\, along with crispy hot chips and a garden salad. \nBargain! At that price\, you’ll want to dine out all week.[/vc_column_text][/vc_column][/vc_row][vc_row][vc_column][vc_single_image image=”27366″ img_size=”full”][/vc_column][/vc_row][vc_row disable_element=”yes”][vc_column width=”1/2″][vc_column_text]Why not pair your Surf & Turf with a deliciously chilled glass of wine? \nOr maybe you prefer to enjoy your Surf & Turf with a soft\, smooth glass of red. \nOrder your Surf & Turf along with your favourite beverage and enjoy the relaxing ambiance in the Premiers Lounge or Jubilee Brasserie.[/vc_column_text][/vc_column][vc_column width=”1/2″][vc_single_image image=”27159″ img_size=”medium”][/vc_column][/vc_row][vc_row][vc_column][vc_column_text] \nWHEN TO ORDER?\nSurf & Turf is available Monday to Friday from Jubilee Brasserie for lunch and dinner. Starts Wednesday 1 November to Thursday 30 November \nLUNCH \nMonday to Friday: 11.30am – 2.30pm \nDINNER \nMonday to Thursday: 5.30pm – 9pm\nFriday: 5.30pm – 9.30pm[/vc_column_text][/vc_column][/vc_row][vc_row][vc_column][vc_column_text] \nPRICE\nMember $19.90 \nVisitor $35.90 \nNot a member? Join or renew today from only $3 by visiting ST.GEORGE Rewards.[/vc_column_text][/vc_column][/vc_row][vc_row][vc_column][vc_column_text] \nBOOK A TABLE\nGather your family and friends and ride the wave of flavour. Jubilee Brasserie accepts bookings of 10 or more.[/vc_column_text]BOOK NOW[/vc_column][/vc_row][vc_row][vc_column][vc_separator][vc_column_text]Conditions apply. Offer available from Wednesday 1 November until Thursday 30 November or while stocks last. Purchase the Surf & Turf at Jubilee Brasserie Monday to Friday during trading hours and pay only $19.90 on presentation of a current membership card. Offer available to current financial St. George Leagues Club members only. To learn more about membership\, visit ST.GEORGE Rewards and join today from only $3. Visitor price is $35.90.[/vc_column_text][/vc_column][/vc_row]
URL:https://stgeorgeleagues.com.au/whats-on/surf-turf/2023-11-01/
LOCATION:Jubilee Brasserie\, 124 Princes Highway\, Kogarah\, NSW\, 2217\, Australia
CATEGORIES:Eat & Drink
ATTACH;FMTTYPE=image/jpeg:https://stgeorgeleagues.com.au/wp-content/uploads/2023/08/2023-Surf-n-Turf-Promo_WEB.jpg
END:VEVENT
END:VCALENDAR