BEGIN:VCALENDAR
VERSION:2.0
PRODID:-//St. George Leagues Club - ECPv6.11.0.1//NONSGML v1.0//EN
CALSCALE:GREGORIAN
METHOD:PUBLISH
X-WR-CALNAME:St. George Leagues Club
X-ORIGINAL-URL:https://stgeorgeleagues.com.au
X-WR-CALDESC:Events for St. George Leagues Club
REFRESH-INTERVAL;VALUE=DURATION:PT1H
X-Robots-Tag:noindex
X-PUBLISHED-TTL:PT1H
BEGIN:VTIMEZONE
TZID:Australia/Sydney
BEGIN:STANDARD
TZOFFSETFROM:+1100
TZOFFSETTO:+1000
TZNAME:AEST
DTSTART:20230401T160000
END:STANDARD
BEGIN:DAYLIGHT
TZOFFSETFROM:+1000
TZOFFSETTO:+1100
TZNAME:AEDT
DTSTART:20230930T160000
END:DAYLIGHT
END:VTIMEZONE
BEGIN:VEVENT
DTSTART;VALUE=DATE:20230710
DTEND;VALUE=DATE:20230711
DTSTAMP:20260425T041907
CREATED:20230713T082920Z
LAST-MODIFIED:20230829T002608Z
UID:21313-1688947200-1689033599@stgeorgeleagues.com.au
SUMMARY:60% PAY BY POINTS DISCOUNT
DESCRIPTION:[vc_row][vc_column][vc_column_text]Use your membership points to receive 60% off food and drinks.  \nIn celebration of our 60th Anniversary\, receive 60% off when you pay with your membership points at any ground floor outlet. \nNow is the perfect time to escape the winter chill and join us for lunch or dinner at Jubilee Brasserie. \nWant to check your points balance? Simply swipe your membership card at the Rewards Kiosk located in the Club foyer.[/vc_column_text][vc_single_image image=”20419″ img_size=”medium” alignment=”center” onclick=”custom_link” link=”https://stgeorgeleagues.com.au/60th-anniversary/”][/vc_column][/vc_row][vc_row][vc_column][vc_separator][vc_column_text]Conditions apply. Offer available until Thursday 31 August to current financial St. George Leagues Club members only. To learn more about membership\, visit ST.GEORGE Rewards and join today from only $3. [/vc_column_text][/vc_column][/vc_row]
URL:https://stgeorgeleagues.com.au/whats-on/60-pay-by-points-discount/2023-07-10/
LOCATION:Jubilee Brasserie\, 124 Princes Highway\, Kogarah\, NSW\, 2217\, Australia
CATEGORIES:Eat & Drink
ATTACH;FMTTYPE=image/jpeg:https://stgeorgeleagues.com.au/wp-content/uploads/2023/07/2023_EatAndDrink_60_Web.jpg
END:VEVENT
END:VCALENDAR