BEGIN:VCALENDAR
VERSION:2.0
PRODID:-//St. George Leagues Club - ECPv6.11.0.1//NONSGML v1.0//EN
CALSCALE:GREGORIAN
METHOD:PUBLISH
X-WR-CALNAME:St. George Leagues Club
X-ORIGINAL-URL:https://stgeorgeleagues.com.au
X-WR-CALDESC:Events for St. George Leagues Club
REFRESH-INTERVAL;VALUE=DURATION:PT1H
X-Robots-Tag:noindex
X-PUBLISHED-TTL:PT1H
BEGIN:VTIMEZONE
TZID:Australia/Sydney
BEGIN:STANDARD
TZOFFSETFROM:+1100
TZOFFSETTO:+1000
TZNAME:AEST
DTSTART:20260404T160000
END:STANDARD
BEGIN:DAYLIGHT
TZOFFSETFROM:+1000
TZOFFSETTO:+1100
TZNAME:AEDT
DTSTART:20261003T160000
END:DAYLIGHT
END:VTIMEZONE
BEGIN:VEVENT
DTSTART;VALUE=DATE:20260315
DTEND;VALUE=DATE:20260318
DTSTAMP:20260425T050729
CREATED:20260122T010758Z
LAST-MODIFIED:20260122T011051Z
UID:58505-1773532800-1773791999@stgeorgeleagues.com.au
SUMMARY:$50\,000 Mahjong Championships
DESCRIPTION:[vc_row][vc_column][vc_column_text css=””] \n\n$50\,000 MAHJONG CHAMPIONSHIP SERIES IS ON AGAIN!\nThis is the first Sydney Championship Series of 2026. \nCome and experience the excitement during the 3 day series 15–17 March 2026! \nAll you have to do is play a minimum number of mahjong games between 1 October 2025 and 28 February 2026. \n  \n\n\nHOW DO I QUALIFY FOR THE SYDNEY MAHJONG $50\,000 CHAMPIONSHIPS?\nSilver VIP Status – Play between 1 October 2025 and 28 February 2026 and qualify for the $10\,000 Special Event. Play at least 5 games during this period to qualify. \nGold VIP Status – Play between 1 October 2025 and 28 February 2026 and qualify for the $15\,000 Special Event. This includes all Silver and Gold VIP Status events. Play at least 5 games during this period to qualify. \nPlatinum VIP Status – Play between 1 October 2025 and 28 February 2026 and qualify for the $25\,000 Special Event. This includes all Silver\, Gold and Platinum VIP Status events. Play at least 5 games during this period to qualify. \nBring your friends and make the effort to qualify so that you can experience mahjong finals with an incredible atmosphere! \n\n[/vc_column_text][/vc_column][/vc_row][vc_row][vc_column][vc_separator][vc_column_text css=””]This event is run by Mahjong Australia. All players must be a current financial member of St. George Leagues Club to participate. To learn more about membership\, visit ST.GEORGE Rewards and join today from only $3. Days and times may be subject to change – stay tuned to the website for updates.. [/vc_column_text][/vc_column][/vc_row]
URL:https://stgeorgeleagues.com.au/whats-on/50k-mahjong-championships/
CATEGORIES:Mahjong,Promotions
ATTACH;FMTTYPE=image/jpeg:https://stgeorgeleagues.com.au/wp-content/uploads/2026/01/MA-championships-Website-1067x600-1.jpg
END:VEVENT
BEGIN:VEVENT
DTSTART;TZID=Australia/Sydney:20260214T140000
DTEND;TZID=Australia/Sydney:20260214T173000
DTSTAMP:20260425T050729
CREATED:20260112T053408Z
LAST-MODIFIED:20260112T053408Z
UID:58371-1771077600-1771090200@stgeorgeleagues.com.au
SUMMARY:Mahjong Venue Final
DESCRIPTION:[vc_row][vc_column][vc_column_text css=””] \nGet ready for the Mahjong Australia Venue Final at St George Leagues Club\, with $4\,000 on the line. \nJoin us on Saturday 14 February 2026 for an exciting afternoon of competition as qualifiers battle it out in the Venue Final. Registrations open from 2pm\, with play starting at 3pm. \nTo qualify\, simply play 13 games during the qualification period: 1 January – 31 January. It’s your chance to test your skills\, climb the leaderboard\, and earn your spot in the final. \n[/vc_column_text][/vc_column][/vc_row][vc_row][vc_column][vc_separator][vc_column_text css=””]This event is run by Mahjong Australia. All players must be a current financial member of St. George Leagues Club to participate. To learn more about membership\, visit ST.GEORGE Rewards and join today from only $3. Days and times may be subject to change – stay tuned to the website for updates.. [/vc_column_text][/vc_column][/vc_row]
URL:https://stgeorgeleagues.com.au/whats-on/mahjong-venue-final/
CATEGORIES:Mahjong,Promotions
ATTACH;FMTTYPE=image/jpeg:https://stgeorgeleagues.com.au/wp-content/uploads/2026/01/st-george-venue-final-1067x600-website.jpg
END:VEVENT
END:VCALENDAR